BEGIN:VCALENDAR
VERSION:2.0
PRODID:-//AIA Baltimore/Baltimore Architecture Foundation - ECPv5.14.1//NONSGML v1.0//EN
CALSCALE:GREGORIAN
METHOD:PUBLISH
X-WR-CALNAME:AIA Baltimore/Baltimore Architecture Foundation
X-ORIGINAL-URL:https://aiabaltimore.org
X-WR-CALDESC:Events for AIA Baltimore/Baltimore Architecture Foundation
REFRESH-INTERVAL;VALUE=DURATION:PT1H
X-Robots-Tag:noindex
X-PUBLISHED-TTL:PT1H
BEGIN:VTIMEZONE
TZID:America/New_York
BEGIN:DAYLIGHT
TZOFFSETFROM:-0500
TZOFFSETTO:-0400
TZNAME:EDT
DTSTART:20210314T070000
END:DAYLIGHT
BEGIN:STANDARD
TZOFFSETFROM:-0400
TZOFFSETTO:-0500
TZNAME:EST
DTSTART:20211107T060000
END:STANDARD
END:VTIMEZONE
BEGIN:VEVENT
DTSTART;VALUE=DATE:20210730
DTEND;VALUE=DATE:20210731
DTSTAMP:20260422T130213
CREATED:20210601T182640Z
LAST-MODIFIED:20210601T182706Z
UID:27140-1627603200-1627689599@aiabaltimore.org
SUMMARY:Call For Entry: 2021 AIA Baltimore Student Awards
DESCRIPTION:Are you an architecture student in the final year of your degree program? Apply to the 2021 AIA Baltimore Student Awards presented by Future Architects Resources (FAR for a chance to win up to $500 towards your degree and recognition of your work in the professional community! \nEligibility Requirements: \n\nEntries are open to students entering/beginning the final year of their architectural studies program (community college/undergraduate/graduate school) in Maryland.\nThe work can be a studio project\, a competition\, a self-directed project\, or a graduate research/theory paper.\nThe student must be the sole author of the work and it must have been realized exclusively in an academic setting.\nDesigns completed in a professional office are not eligible. Students who submit to the FAR Awards are encouraged to also submit to student awards for AIA Maryland and AIA Chesapeake Bay\nFaculty sponsorship is required for all submissions.\nApplication is FREE to all eligible students! \n New extended deadline to apply is Friday\, July 30\, 2021\n\n\nAPPLY NOW
URL:https://aiabaltimore.org/event/2021-aia-baltimore-student-awards/
CATEGORIES:Awards,Special Events
ATTACH;FMTTYPE=image/png:https://aiabaltimore.org/wp-content/uploads/2021/06/2021-student-awards-graphic.png
END:VEVENT
END:VCALENDAR