BEGIN:VCALENDAR
VERSION:2.0
PRODID:-//AIA Baltimore/Baltimore Architecture Foundation - ECPv5.14.1//NONSGML v1.0//EN
CALSCALE:GREGORIAN
METHOD:PUBLISH
X-WR-CALNAME:AIA Baltimore/Baltimore Architecture Foundation
X-ORIGINAL-URL:https://aiabaltimore.org
X-WR-CALDESC:Events for AIA Baltimore/Baltimore Architecture Foundation
REFRESH-INTERVAL;VALUE=DURATION:PT1H
X-Robots-Tag:noindex
X-PUBLISHED-TTL:PT1H
BEGIN:VTIMEZONE
TZID:America/New_York
BEGIN:DAYLIGHT
TZOFFSETFROM:-0500
TZOFFSETTO:-0400
TZNAME:EDT
DTSTART:20210314T070000
END:DAYLIGHT
BEGIN:STANDARD
TZOFFSETFROM:-0400
TZOFFSETTO:-0500
TZNAME:EST
DTSTART:20211107T060000
END:STANDARD
END:VTIMEZONE
BEGIN:VEVENT
DTSTART;TZID=America/New_York:20210113T160000
DTEND;TZID=America/New_York:20210113T170000
DTSTAMP:20260423T062710
CREATED:20201221T133457Z
LAST-MODIFIED:20201221T193940Z
UID:25609-1610553600-1610557200@aiabaltimore.org
SUMMARY:AIA Baltimore 150th Celebration!
DESCRIPTION:AIA Baltimore Celebrates 150 years of supporting Baltimore’s architecture community\n\n\nLet’s toast to 150 years! During this very special birthday party\, you’ll hear from city and cultural leaders on the impact of Baltimore architecture and architects\, learn about upcoming 2021 AIA Baltimore programs and opportunities\, and enjoy a night of memorable toasts\, history\, and trivia! \nFollow Us on Facebook and Instagram so you can keep up with all our exciting 2021 programs. We will be presenting various fundraisers\, trivia nights\, lectures\, and networking events. Stay in the loop by giving us a follow! \nCheck out our Youtube Channel that hosts various lectures\, virtual tours\, historical overviews\, and more! Become a Subscriber to see all our upcoming 150th Programs virtually from the comfort of your home! \nAs we enter our 150th year\, consider giving a gift to The Center Fund. A monumental move for us means monumental opportunities\, and we need your help to make the exciting opportunities ahead of us a reality. Our aim is to raise $1 million for The Center Fund\, our capital campaign to sustain the Baltimore Center for Architecture and Design. Your individual contribution or firm/corporate sponsorship will match these funds to sustain costs for the design and construction and ongoing operations of the Center. \nContribute to the Center Fund by making a check out to “AIA Baltimore” and mailing it to: \nAIA Baltimore\nThe Center for Architecture and Design\nOne Charles Center\n100 N. Charles Street\nSuite P-101\nBaltimore\, MD 21201 \nLearn more about our 2021 annual sponsorship opportunities here. \nSpeakers: \nBaltimore City Mayor Brandon Scott\n2021 AIA President Peter Exley\, FAIA\n2021 AIA Baltimore President Scott McGovern\, AIA\nWalter Schamu\, FAIA\, Past President\, AIA Baltimore and Founder\, Baltimore Architecture Foundation\nJennifer Goold\, Neighborhood Design Center
URL:https://aiabaltimore.org/event/aia-baltimore-150th-celebration/
CATEGORIES:Networking,Special Events
ATTACH;FMTTYPE=image/jpeg:https://aiabaltimore.org/wp-content/uploads/2020/12/081a56ac3bb9c9a204b2629f823b6b7c-kuLeq3.tmp_.jpg
END:VEVENT
END:VCALENDAR