BEGIN:VCALENDAR
VERSION:2.0
PRODID:-//AIA Baltimore/Baltimore Architecture Foundation - ECPv5.14.1//NONSGML v1.0//EN
CALSCALE:GREGORIAN
METHOD:PUBLISH
X-WR-CALNAME:AIA Baltimore/Baltimore Architecture Foundation
X-ORIGINAL-URL:https://aiabaltimore.org
X-WR-CALDESC:Events for AIA Baltimore/Baltimore Architecture Foundation
REFRESH-INTERVAL;VALUE=DURATION:PT1H
X-Robots-Tag:noindex
X-PUBLISHED-TTL:PT1H
BEGIN:VTIMEZONE
TZID:America/New_York
BEGIN:DAYLIGHT
TZOFFSETFROM:-0500
TZOFFSETTO:-0400
TZNAME:EDT
DTSTART:20230312T070000
END:DAYLIGHT
BEGIN:STANDARD
TZOFFSETFROM:-0400
TZOFFSETTO:-0500
TZNAME:EST
DTSTART:20231105T060000
END:STANDARD
END:VTIMEZONE
BEGIN:VEVENT
DTSTART;TZID=America/New_York:20230803T180000
DTEND;TZID=America/New_York:20230803T190000
DTSTAMP:20260422T185059
CREATED:20230623T173406Z
LAST-MODIFIED:20240327T160742Z
UID:31909-1691085600-1691089200@aiabaltimore.org
SUMMARY:Artist Talk - Alberto Cavalieri
DESCRIPTION:Catalyst Contemporary and the Baltimore chapter of the American Institute of Architects partner to present sculpture by Alberto Cavalieri at the Center for Architecture and Design. The works on display come from Cavalieri’s series of twisting and elegant “Knots.” In solid cast iron and fabricated\, modular aluminum these knot sculptures take viewers on a journey through the beautiful potential of Cavalieri’s elegant forms and into the context of the much larger-scaled possibilities of architecture. \nAIA Baltimore is excited to exhibit Alberto Cavalieri’s works to promote dialog about form\, materiality\, and construction and\, on a deeper level\, the artist’s use of knots in response to the built environment of his native Venezuela. \nJoin AIA Baltimore and Catalyst Contemporary in conversation with Alberto Cavalieri Thursday\, August 3 from 6-7pm to discuss Minimalist construct principles\, an art making process that marries computer-aided design and traditional metal working and finding inspiration in abandoned promises. This talk will be recorded and the recording will be made available to all registrants. \nRegister for free here.
URL:https://aiabaltimore.org/event/artist-talk-alberto-cavalieri/
CATEGORIES:Special Events
ATTACH;FMTTYPE=image/jpeg:https://aiabaltimore.org/wp-content/uploads/2023/06/alberto-cavalieri-2.jpg
END:VEVENT
END:VCALENDAR