BEGIN:VCALENDAR
VERSION:2.0
PRODID:-//AIA Baltimore/Baltimore Architecture Foundation - ECPv5.14.1//NONSGML v1.0//EN
CALSCALE:GREGORIAN
METHOD:PUBLISH
X-WR-CALNAME:AIA Baltimore/Baltimore Architecture Foundation
X-ORIGINAL-URL:https://aiabaltimore.org
X-WR-CALDESC:Events for AIA Baltimore/Baltimore Architecture Foundation
REFRESH-INTERVAL;VALUE=DURATION:PT1H
X-Robots-Tag:noindex
X-PUBLISHED-TTL:PT1H
BEGIN:VTIMEZONE
TZID:America/New_York
BEGIN:DAYLIGHT
TZOFFSETFROM:-0500
TZOFFSETTO:-0400
TZNAME:EDT
DTSTART:20200308T070000
END:DAYLIGHT
BEGIN:STANDARD
TZOFFSETFROM:-0400
TZOFFSETTO:-0500
TZNAME:EST
DTSTART:20201101T060000
END:STANDARD
END:VTIMEZONE
BEGIN:VEVENT
DTSTART;TZID=America/New_York:20201112T173000
DTEND;TZID=America/New_York:20201112T183000
DTSTAMP:20260419T091833
CREATED:20201030T203205Z
LAST-MODIFIED:20201030T203205Z
UID:24272-1605202200-1605205800@aiabaltimore.org
SUMMARY:BAF Dead Architects Society Meeting
DESCRIPTION:BAF Dead Architects Society \nTime: Nov 12\, 2020 05:30 PM Eastern Time (US and Canada) \nJoin Zoom Meeting \nhttps://zoom.us/j/98279377899?pwd=R2pUOFFRZERabWtZRkFRODFCb0cyQT09 \nMeeting ID: 982 7937 7899 \nPasscode: 732358 \nOne tap mobile
URL:https://aiabaltimore.org/event/baf-dead-architects-society-meeting/
CATEGORIES:Committee Meetings
END:VEVENT
END:VCALENDAR