BEGIN:VCALENDAR
VERSION:2.0
PRODID:-//AIA Baltimore/Baltimore Architecture Foundation - ECPv5.14.1//NONSGML v1.0//EN
CALSCALE:GREGORIAN
METHOD:PUBLISH
X-WR-CALNAME:AIA Baltimore/Baltimore Architecture Foundation
X-ORIGINAL-URL:https://aiabaltimore.org
X-WR-CALDESC:Events for AIA Baltimore/Baltimore Architecture Foundation
REFRESH-INTERVAL;VALUE=DURATION:PT1H
X-Robots-Tag:noindex
X-PUBLISHED-TTL:PT1H
BEGIN:VTIMEZONE
TZID:America/New_York
BEGIN:DAYLIGHT
TZOFFSETFROM:-0500
TZOFFSETTO:-0400
TZNAME:EDT
DTSTART:20210314T070000
END:DAYLIGHT
BEGIN:STANDARD
TZOFFSETFROM:-0400
TZOFFSETTO:-0500
TZNAME:EST
DTSTART:20211107T060000
END:STANDARD
END:VTIMEZONE
BEGIN:VEVENT
DTSTART;TZID=America/New_York:20210202T173000
DTEND;TZID=America/New_York:20210202T183000
DTSTAMP:20260419T101418
CREATED:20200417T022800Z
LAST-MODIFIED:20201208T195339Z
UID:617-1612287000-1612290600@aiabaltimore.org
SUMMARY:Doors Open Baltimore Committee Meeting
DESCRIPTION:Organizes the annual Doors Open Baltimore\, the citywide festival of neighborhood and architecture. \nCo-Chairs:\nMargaret De Arcangelis\nBaltimore Museum of Industry \nKeith Mainhart \nReach out to Nathan Dennies at ndennies@aiabalt.com for meeting Zoom info.
URL:https://aiabaltimore.org/event/doors-open-baltimore-committee-meeting-2/2021-02-02/
LOCATION:Virtual meeting
CATEGORIES:Committee Meetings
END:VEVENT
END:VCALENDAR