BEGIN:VCALENDAR
VERSION:2.0
PRODID:-//AIA Baltimore/Baltimore Architecture Foundation - ECPv5.14.1//NONSGML v1.0//EN
CALSCALE:GREGORIAN
METHOD:PUBLISH
X-WR-CALNAME:AIA Baltimore/Baltimore Architecture Foundation
X-ORIGINAL-URL:https://aiabaltimore.org
X-WR-CALDESC:Events for AIA Baltimore/Baltimore Architecture Foundation
REFRESH-INTERVAL;VALUE=DURATION:PT1H
X-Robots-Tag:noindex
X-PUBLISHED-TTL:PT1H
BEGIN:VTIMEZONE
TZID:America/New_York
BEGIN:DAYLIGHT
TZOFFSETFROM:-0500
TZOFFSETTO:-0400
TZNAME:EDT
DTSTART:20220313T070000
END:DAYLIGHT
BEGIN:STANDARD
TZOFFSETFROM:-0400
TZOFFSETTO:-0500
TZNAME:EST
DTSTART:20221106T060000
END:STANDARD
END:VTIMEZONE
BEGIN:VEVENT
DTSTART;TZID=America/New_York:20220118T170000
DTEND;TZID=America/New_York:20220118T180000
DTSTAMP:20260419T083115
CREATED:20220109T164452Z
LAST-MODIFIED:20220110T195418Z
UID:29070-1642525200-1642528800@aiabaltimore.org
SUMMARY:Historic Resources Committee Meeting
DESCRIPTION:The Historic Resources Committee organizes events that promote the knowledge and appreciation of the restoration and adaptive use of Baltimore’s historic buildings and neighborhoods.\nTo join this committee\, please contact co-chairs: \nDave Ditman\, Retired teacher\, HoCo Public Schools \nRob Brennan\, AIA\, brennan+company architects
URL:https://aiabaltimore.org/event/historic-resources-committee-meeting-6/2022-01-18/
CATEGORIES:Committee Meetings
END:VEVENT
END:VCALENDAR