BEGIN:VCALENDAR
VERSION:2.0
PRODID:-//AIA Baltimore/Baltimore Architecture Foundation - ECPv5.14.1//NONSGML v1.0//EN
CALSCALE:GREGORIAN
METHOD:PUBLISH
X-WR-CALNAME:AIA Baltimore/Baltimore Architecture Foundation
X-ORIGINAL-URL:https://aiabaltimore.org
X-WR-CALDESC:Events for AIA Baltimore/Baltimore Architecture Foundation
REFRESH-INTERVAL;VALUE=DURATION:PT1H
X-Robots-Tag:noindex
X-PUBLISHED-TTL:PT1H
BEGIN:VTIMEZONE
TZID:America/New_York
BEGIN:DAYLIGHT
TZOFFSETFROM:-0500
TZOFFSETTO:-0400
TZNAME:EDT
DTSTART:20240310T070000
END:DAYLIGHT
BEGIN:STANDARD
TZOFFSETFROM:-0400
TZOFFSETTO:-0500
TZNAME:EST
DTSTART:20241103T060000
END:STANDARD
END:VTIMEZONE
BEGIN:VEVENT
DTSTART;TZID=America/New_York:20240528T170000
DTEND;TZID=America/New_York:20240528T180000
DTSTAMP:20260420T062359
CREATED:20240306T205302Z
LAST-MODIFIED:20240328T142417Z
UID:33138-1716915600-1716919200@aiabaltimore.org
SUMMARY:Maryland Legislative Session 2024 Recap
DESCRIPTION:Come join us for a COTE (Committee on the Environment) hosted discussion with Chris Parts\, AIA\, Principal at Hord Coplan Macht and AIA Maryland Legislative committee chair\, for a recap of the 2024 state legislative session. We’ll hear about bills impacting the built environment that passed\, bills that didn’t pass\, and what we might see come back in 2025. \nWe’ll also do a brief discussion hosted by Ben Roush\, PE\, Principal at FSi Engineers\, and AIA Baltimore COTE co-chair\, on the emergent issue around A2L refrigerants\, and requirements from the 2018 and 2021 I codes. \nContinuing Education: AIA CES 1.0 LU|HSW approved   \nRegister here to attend this presentation.
URL:https://aiabaltimore.org/event/maryland-legislative-session-2024-recap/
CATEGORIES:Continuing Education,COTE|R
END:VEVENT
END:VCALENDAR