BEGIN:VCALENDAR
VERSION:2.0
PRODID:-//AIA Baltimore/Baltimore Architecture Foundation - ECPv5.14.1//NONSGML v1.0//EN
CALSCALE:GREGORIAN
METHOD:PUBLISH
X-WR-CALNAME:AIA Baltimore/Baltimore Architecture Foundation
X-ORIGINAL-URL:https://aiabaltimore.org
X-WR-CALDESC:Events for AIA Baltimore/Baltimore Architecture Foundation
REFRESH-INTERVAL;VALUE=DURATION:PT1H
X-Robots-Tag:noindex
X-PUBLISHED-TTL:PT1H
BEGIN:VTIMEZONE
TZID:America/New_York
BEGIN:DAYLIGHT
TZOFFSETFROM:-0500
TZOFFSETTO:-0400
TZNAME:EDT
DTSTART:20230312T070000
END:DAYLIGHT
BEGIN:STANDARD
TZOFFSETFROM:-0400
TZOFFSETTO:-0500
TZNAME:EST
DTSTART:20231105T060000
END:STANDARD
END:VTIMEZONE
BEGIN:VEVENT
DTSTART;TZID=America/New_York:20230301T180000
DTEND;TZID=America/New_York:20230301T200000
DTSTAMP:20260422T204259
CREATED:20230124T164114Z
LAST-MODIFIED:20230222T162722Z
UID:30814-1677693600-1677700800@aiabaltimore.org
SUMMARY:The AIA Baltimore Health & Wellness Committee’s 7th Annual Design Showcase
DESCRIPTION:The AIA Baltimore Health & Wellness Committee will be hosting its 7th Annual Design Showcase- Good Design=Good Health. \n[REGISTER HERE]\nThe AIA Baltimore Health & Wellness Committee will be hosting its 7th Annual Design Showcase- Good Design=Good Health on Wednesday\, March 1st\, 2023 from 6-8 PM. This exhibition is intended to be a fun way for architects\, engineers\, urban planners\, interior designers\, contractors\, and others to show the local community how they have been creating healthy spaces. The goal of this exhibition is to showcase designs that promote health and wellness in a variety of ways. \nThe theme of the showcase\, Good Design=Good Health\, paints a broad stroke of healthy design. Cities and communities that foster healthy living\, mental well-being and social connectedness don’t just happen. It takes forward thinking and innovative designers to create spaces that elevate a community’s way of life. For our showcase\, we are encouraging architects\, engineers\, general contractors\, landscape architects\, urban planners\, and artists to submit projects and designs that broadly speak to community health. From the urban planner who designed new bike lane routes throughout the city\, to the landscape architect’s healing garden for children\, to the contractors bringing the adaptive reuse vision to life\, to the architect’s design of community schools bringing to life one’s vision of academics and healthcare access coming together under one roof- everyone brings their own idea of a healthy environment and how to create it. \nWhat you can look forward to: The AIA Baltimore Health & Wellness Committee is interested in bringing members of the design community together with a forum to showcase their designs with peers\, while also being afforded the opportunity to observe the creative work of others. On this night we will come together to celebrate our successes\, share best practices\, strategize solutions\, and discuss adaptation. \nContinuing education credits: approved for1.5 LU|HSW for AIA CES and ASLA LACES \nHeavy hors d’oeuvres\, beer\, and wine will be provided. \nSubmissions: We are seeking submissions from the design and construction community for projects that speak to the idea of a healthy city or healthy environment. The promotion of good health comes in so many shapes and sizes; we want to celebrate them all! \n• Eligibility: Projects must have been designed or constructed within the past 3 years. Projects may be of any size or value. \n• Format: A suggested template for the PowerPoint/PDF slides is attached. These are to be submitted electronically to AIA Baltimore one week prior to the event (Wednesday\, February 22nd). Firms may make up to two submissions if interested. \nEntry forms can be submitted to admin@aiabalt.com \nAIA Baltimore will provide access to upload files as entry forms are received. \n  \nThank You to our Generous Event Sponsors\nSite Resources \nWSP
URL:https://aiabaltimore.org/event/the-aia-baltimore-health-wellness-committees-7th-annual-design-showcase/
LOCATION:The Center for Architecture and Design\, 100 N Charles St\, Baltimore\, MD\, 21218\, United States
CATEGORIES:Special Events
ATTACH;FMTTYPE=image/png:https://aiabaltimore.org/wp-content/uploads/2023/01/Screen-Shot-2023-01-24-at-11.42.17-AM.png
END:VEVENT
END:VCALENDAR