BEGIN:VCALENDAR
VERSION:2.0
PRODID:-//AIA Baltimore/Baltimore Architecture Foundation - ECPv5.14.1//NONSGML v1.0//EN
CALSCALE:GREGORIAN
METHOD:PUBLISH
X-WR-CALNAME:AIA Baltimore/Baltimore Architecture Foundation
X-ORIGINAL-URL:https://aiabaltimore.org
X-WR-CALDESC:Events for AIA Baltimore/Baltimore Architecture Foundation
REFRESH-INTERVAL;VALUE=DURATION:PT1H
X-Robots-Tag:noindex
X-PUBLISHED-TTL:PT1H
BEGIN:VTIMEZONE
TZID:America/New_York
BEGIN:DAYLIGHT
TZOFFSETFROM:-0500
TZOFFSETTO:-0400
TZNAME:EDT
DTSTART:20200308T070000
END:DAYLIGHT
BEGIN:STANDARD
TZOFFSETFROM:-0400
TZOFFSETTO:-0500
TZNAME:EST
DTSTART:20201101T060000
END:STANDARD
END:VTIMEZONE
BEGIN:VEVENT
DTSTART;TZID=America/New_York:20201105T160000
DTEND;TZID=America/New_York:20201105T170000
DTSTAMP:20260423T081509
CREATED:20200928T155045Z
LAST-MODIFIED:20201104T193724Z
UID:23940-1604592000-1604595600@aiabaltimore.org
SUMMARY:The Ultimate Gingerbread House Design Competition Happy Hour
DESCRIPTION:AIA Baltimore and the Baltimore Architecture Foundation is excited to announce the Gingerbread House Competition Kick-Off! Join us for the first part of a two part networking event\, on November 5. We will announce the categories and will use Zoom breakout rooms for a fun evening of networking! And then join us December 10 for the Gingerbread House Design Competition\, it will also be held on zoom due to the ongoing public health crisis. \nWe will also host a 2 drink demo with architect and mixologist Nikolas Hill \nNikolas X. Hill is the proprietor of threeSPICE Fruit Shrubs and The Congenial Hour online blog & mobile bartending services. Nikolas meshes his industry experience from both architectural design and service hospitality to produce this time-tested\, seasonal\, sweet-and-sour treat. \nTo request a Shrub Kit from our mixologist email threespice.shrubs@gmail.com \nOR \nSend him a message on Facebook or Instagram: https://www.facebook.com/threeSPICE/\nInstagram: @three_spice \n\nUltimate Gingerbread House Design Competition Judges \n \nMarco Legaluppi \nMarco Legaluppi\, PE is the President of Whitney Bailey Cox & Magnani LLC (WBCM)\, a full-service\, multi-discipline engineering firm headquartered in Baltimore\, MD. As a portion of his duties\, Mr. Legaluppi is responsible for coordinating structural design efforts across multiple offices and overseeing the architecture department. Marco is a life-long Baltimorean who graduated from the University of Maryland\, College Park with a Bachelor of Science in Civil/Structural Engineering and a Master’s of Science in Civil Engineering. A Registered Professional Engineer in over 15 states\, Marco has 38 years of experience with structural engineering design\, inspection\, and assessment. Marco is currently on the Executive Committee Board of the Engineering Society of Baltimore (ESB)\, sits on the University of Maryland Board of Visitors for the School of Civil Engineering\, and is an active member of numerous industry organizations. \n \nSuzanne Frazier \nSuzanne Frasier\, FAIA is the Chair of the Department of Undergraduate Design at Morgan State University’s School of Architecture and Planning where she has been a faculty member since 2005. She is a licensed and registered architect with over 20 years of professional experience in the design and construction industry prior to becoming a full-time academic. Suzanne has been actively involved with the AIA for over three decades. \n \nMonica Amtower \nA baking and pastry graduate of the Culinary Institute of America in Hyde Park New York\, Monica Amtower is a Baltimore native who spent her career grinding in some of the best establishments that she could get into: Cafe Boulud in Palm Beach\, the Inn at Little Washington\, the Four Seasons in Baltimore\, the James Beard nominated Forman and Wolf group\, Montage International at the Sagamore Pendry Luxury Hotel\, and currently is the Executive Pastry Chef at a 5 star hotel in downtown Washington D.C. \n\nProceeds of the event will be donated to AIA Baltimore and Baltimore Architecture Foundation scholarship programs for students of architecture at Morgan State University and Maryland community colleges and universities. Proceeds also support Future Architects Resources/Kids in Design programs for underserved middle and high school students to encourage career opportunities in architecture\, design\, and construction\, and major BAF programs like Doors Open Baltimore. \nWe would love to have you participate! If you are interested in participating in the competition\, please sign up here! \nInterested in sponsoring this unique event? Contact Margaret Stella at mstella@aiabalt.com or find our Sponsorship Guide here. \n\n\n\nSpecial Thanks To Our Generous Sponsors!\nGum Drop Lights Sponsor\n\n\n\n\nIce Sculpture\nSchluter Systems
URL:https://aiabaltimore.org/event/the-ultimate-gingerbread-house-design-competition-happy-hour/
CATEGORIES:K-12 and Family,Networking,Special Events,Webinars
ATTACH;FMTTYPE=image/jpeg:https://aiabaltimore.org/wp-content/uploads/2020/09/d3c279e00e818fc5b62cc0228a0c8490-uKOCrF.tmp_.jpg
END:VEVENT
END:VCALENDAR