BEGIN:VCALENDAR
VERSION:2.0
PRODID:-//AIA Baltimore/Baltimore Architecture Foundation - ECPv5.14.1//NONSGML v1.0//EN
CALSCALE:GREGORIAN
METHOD:PUBLISH
X-WR-CALNAME:AIA Baltimore/Baltimore Architecture Foundation
X-ORIGINAL-URL:https://aiabaltimore.org
X-WR-CALDESC:Events for AIA Baltimore/Baltimore Architecture Foundation
REFRESH-INTERVAL;VALUE=DURATION:PT1H
X-Robots-Tag:noindex
X-PUBLISHED-TTL:PT1H
BEGIN:VTIMEZONE
TZID:America/New_York
BEGIN:DAYLIGHT
TZOFFSETFROM:-0500
TZOFFSETTO:-0400
TZNAME:EDT
DTSTART:20200308T070000
END:DAYLIGHT
BEGIN:STANDARD
TZOFFSETFROM:-0400
TZOFFSETTO:-0500
TZNAME:EST
DTSTART:20201101T060000
END:STANDARD
BEGIN:DAYLIGHT
TZOFFSETFROM:-0500
TZOFFSETTO:-0400
TZNAME:EDT
DTSTART:20210314T070000
END:DAYLIGHT
BEGIN:STANDARD
TZOFFSETFROM:-0400
TZOFFSETTO:-0500
TZNAME:EST
DTSTART:20211107T060000
END:STANDARD
END:VTIMEZONE
BEGIN:VEVENT
DTSTART;TZID=America/New_York:20210729T120000
DTEND;TZID=America/New_York:20210729T130000
DTSTAMP:20260420T102001
CREATED:20210707T155342Z
LAST-MODIFIED:20210727T141913Z
UID:27940-1627560000-1627563600@aiabaltimore.org
SUMMARY:Accelerated Bridge Construction Using Precast Concrete (SEI Maryland)
DESCRIPTION:Receive (1.0) PDH / AIA LU \nSince its introduction in the United States in 1949\, precast\, prestressed concrete has rapidly become the preferred composite material for bridge design and construction as well as many other transportation-related projects. Today\, it remains the solution of choice for transportation agencies and their designers across the country. This growth came\, and will continue to come\, from the commitment of precast producers to develop\, improve\, and implement advanced materials\, products\, and technology all aimed at enhancing the performance of bridges and transportation structures. Accelerated Bridge Construction (ABC) is a unique approach to project planning\, material acquisition\, and on-site work for bridge construction\, rehabilitation\, and replacement. A trusted method that professionals all over the world have employed for more than twenty years\, ABC uses prefabricated road and bridge elements to support cost-effective and fast project completion. \nREGISTER HERE
URL:https://aiabaltimore.org/event/accelerated-bridge-construction-using-precast-concrete/
CATEGORIES:Continuing Education,Partner Programs
END:VEVENT
BEGIN:VEVENT
DTSTART;TZID=America/New_York:20210729T120000
DTEND;TZID=America/New_York:20210729T130000
DTSTAMP:20260420T102001
CREATED:20210630T195106Z
LAST-MODIFIED:20210727T154821Z
UID:27919-1627560000-1627563600@aiabaltimore.org
SUMMARY:The 21st Annual Employment Webinar (Terrence M. McShane\, Esquire)
DESCRIPTION:1.o AIA LU available  \nThis course is the 21st Annual Employment Seminar/Webinar covering developments in Employment law over the past year from the Civil Rights Act of 1964 and the ADA to Workplace Violence\, Sexual Harassment and COVID-19 in the Workplace. Attendees will learn how their firms can better manage their risk to avoid employment disputes. Please join us! \nREGISTER HERE
URL:https://aiabaltimore.org/event/the-21st-annual-employment-webinar-terrence-m-mcshane-esquire/
CATEGORIES:Continuing Education,Partner Programs
END:VEVENT
BEGIN:VEVENT
DTSTART;TZID=America/New_York:20201109T120000
DTEND;TZID=America/New_York:20201109T130000
DTSTAMP:20260420T102001
CREATED:20201001T142918Z
LAST-MODIFIED:20201001T142918Z
UID:23968-1604923200-1604926800@aiabaltimore.org
SUMMARY:The Restorative Impact of Perceived Open Space
DESCRIPTION:Join us for a webinar from Sky Factory as we explore the restorative impact of perceived open space…\n\n\n\nThis course explores the impact of deep plan buildings on human performance. We analyze the role daylight and perceived open space play in shaping cognitive function\, as well as how our psycho-physiology changes in interior environments. \nThe course introduces a new technology that proposes the restorative value of perceived open space in its two essential orientations: perceived zenith and perceived horizon line. Restoring these fundamental spatial reference frames through a valid multisensory illusion restores a range of wellness benefits normally associated with interiors applying biophilic design principles. \nLearning Objectives \n• Discuss the sky as the therapeutic spatial medium of daylight. \n• Explain why circadian photoreceptors may generate a restorative effect on spatial cognition. \n• Describe the link between our sensorimotor system\, memory\, and spatial reference frames. \n• Summarize the malleable nature of human perception and how multisensory \nillusions can make space. \n• Explain the implications of deep plan buildings on human wellness. \nAbout the Presenter \nGeof Northridge has extensive experience in both commercial real estate and the commercial construction industry. For the past eight years he has been with Sky Factory developing and presenting continuing education courses on topics including the effect of biophilic design elements on human physiology\, how biophilic illusions can be created to provide many of the same physiological benefits as actual biophilic design elements\, and how knowledge of the mechanics of human perception can be paired with carefully crafted illusions of nature to alter how humans experience interior spaces.
URL:https://aiabaltimore.org/event/the-restorative-impact-of-perceived-open-space/
CATEGORIES:Continuing Education,Lectures,Webinars
ATTACH;FMTTYPE=image/jpeg:https://aiabaltimore.org/wp-content/uploads/2020/10/e691c70c63d68860c267992b4f91b676-12IsIw.tmp_.jpg
END:VEVENT
BEGIN:VEVENT
DTSTART;TZID=America/New_York:20200708T130000
DTEND;TZID=America/New_York:20200708T140000
DTSTAMP:20260420T102001
CREATED:20200611T193938Z
LAST-MODIFIED:20200611T194123Z
UID:22584-1594213200-1594216800@aiabaltimore.org
SUMMARY:Windows in Sustainable Residential Design (TW Perry)
DESCRIPTION:1 AIA LU/HSW Available\, program #WISRD \nRegistration Link\nThis presentation addresses the role of windows in sustainable residential design and looks at how homes typically use energy. The course reviews window and door contribution to key sustainable design strategies including energy performance\, passive solar\, daylighting and natural ventilation. The use of energy modeling software to assess performance implications of product specification and design decisions is explored. Categories common in sustainable building rating systems are identified and third party certification of window performance\, materials and environmental quality characteristics to support sustainable design is outlined. An overview of the requirements of the Federal Tax Incentive program is presented. \nWhen you complete this course you will have a better understand of: \n\nHow homes use energy.\nWindow sustainable design strategy.\nMaterial and performance certifications to support sustainable strategies.\nRequirements for Federal Tax incentive program for windows and doors.\n\n  \n  \n  \n 
URL:https://aiabaltimore.org/event/windows-in-sustainable-residential-design-tw-perry/
CATEGORIES:Continuing Education,Webinars
END:VEVENT
BEGIN:VEVENT
DTSTART;TZID=America/New_York:20200701T130000
DTEND;TZID=America/New_York:20200701T140000
DTSTAMP:20260420T102001
CREATED:20200611T193449Z
LAST-MODIFIED:20200615T150015Z
UID:22582-1593608400-1593612000@aiabaltimore.org
SUMMARY:Window & Door Energy Codes & NFRC (TW Perry)
DESCRIPTION:1AIA LU/HSW Available\nProgram #ECNFRC \nRegistration Here: \nThis course describes the physical principles and terminology used to measure heat loss and gain\, the thermal characteristics of windows\, rating and labeling standards for product evaluation and building code requirements relating to windows. Building Code evolution and adoption is investigated. \nWhen you complete this course you will know more about: \n\nEnergy terminology and principles of heat transfer.\nNational Fenestration Rating Council (NFRC) and window labels.\nENERGY STAR® product ratings from the U.S. DOE and EPA.\nEnergy Codes requirements for windows under the International Residential Code (IRC) and the International Energy Conservation Code (IECC).\n\n 
URL:https://aiabaltimore.org/event/selecting-the-right-window-material-for-any-application-tw-perry-2/
CATEGORIES:Continuing Education,Webinars
END:VEVENT
BEGIN:VEVENT
DTSTART;TZID=America/New_York:20200624T130000
DTEND;TZID=America/New_York:20200624T140000
DTSTAMP:20260420T102001
CREATED:20200611T193127Z
LAST-MODIFIED:20200611T193127Z
UID:22577-1593003600-1593007200@aiabaltimore.org
SUMMARY:Selecting the Right Window Material for Any Application (TW Perry)
DESCRIPTION:1AIA LU/HSW Available \nRegistration Link: \nWindows are a critical element of architectural design. Window selection not only significantly impacts the aesthetics of the project\, but also affects the energy efficiency\, comfort\, durability and sustainability of the building once construction is complete. This learning unit will address some of the more popular window choices available today and provide a comparative review of the features and benefits of these very important building elements. This learning unit will also introduce learners to the standards\, tests\, and other performance metrics that will enable specifiers to select the right window for the right application. \n\nIdentify different window types based on the product’s base material\, cladding\, and finish\nDiscuss some of the main criteria for evaluating window types commonly available today\nDescribe the performance attributes of each window material\nExplain how different window materials contribute to energy efficiency and overall sustainability goals including recycling and 1LU/HSW- Program #SRWAAlow maintenance\n\n 
URL:https://aiabaltimore.org/event/selecting-the-right-window-material-for-any-application-tw-perry/
CATEGORIES:Continuing Education,Webinars
END:VEVENT
BEGIN:VEVENT
DTSTART;TZID=America/New_York:20200617T130000
DTEND;TZID=America/New_York:20200617T140000
DTSTAMP:20260420T102001
CREATED:20200611T192517Z
LAST-MODIFIED:20200611T192836Z
UID:22574-1592398800-1592402400@aiabaltimore.org
SUMMARY:Windows Code Fundamentals (TW Perry)
DESCRIPTION:1 LU/HSW – Program #000WCF \nRegistration Link:\nKeeping up with ever evolving window codes can be a challenge for even the most experienced construction industry professional. This course will address some of the core codes and testing methods for windows\, such as accessibility\, emergency escape and rescue\, fall protection\, and safety glazing. Exceptions to the rules will also be addressed along with applications and scenarios where these codes apply. \nWhen you complete this course you will be able to: \n\nAscertain the different elements of accessibility codes for windows.\nIdentify emergency escape and rescue regulations\, as well as exceptions to the rules.\nUnderstand fall protection requirements\, compliance methods\, and the variance between residential and commercial applications.\nDistinguish when and where safety glazing is required for windows\n\n 
URL:https://aiabaltimore.org/event/windows-code-fundamentals-tw-perry/
CATEGORIES:Continuing Education,Webinars
END:VEVENT
BEGIN:VEVENT
DTSTART;TZID=America/New_York:20200603T160000
DTEND;TZID=America/New_York:20200603T173000
DTSTAMP:20260420T102001
CREATED:20200526T182414Z
LAST-MODIFIED:20200526T195219Z
UID:22316-1591200000-1591205400@aiabaltimore.org
SUMMARY:So You Obtained the PPP Loan – What Now?
DESCRIPTION:Join Katz Abosch experts to learn best strategies for documenting procedures\, reasons for using the funding\, and more.\n\n\n\n1.5 AIA/CES LUs available \nPresented by:  \nMichael L. Gentry\, CPA\, CCIFP\, CCA | Director\, KatzAbosch \nFred Landy\, CPA\, CFE |Senior Consultant\, KatzAbosch \nCourse Summary: \nIf your architectural or engineering firm has received approval for a loan from the Paycheck Protection Program (PPP)\, congratulations on obtaining aid to help get your business and your employees through the shutdown measures needed to stop the spread of COVID-19. However\, you need to use the loan carefully. Join Katz Abosch experts to learn best strategies for: \n• Documenting procedures and reasons for using the funding \n• When you should apply for the loan forgiveness opportunity \n• Completing the loan forgiveness application and calculations requested \n• Protecting borrowers with good-faith re-hire efforts for employees \n• Audits and which organizations are more likely to be audited \nIf you have any questions you would like to have addressed regarding the webinar topic\, please submit them when you register.
URL:https://aiabaltimore.org/event/so-you-obtained-the-ppp-loan-what-now/
CATEGORIES:Continuing Education,Professional Development,Webinars
ATTACH;FMTTYPE=image/jpeg:https://aiabaltimore.org/wp-content/uploads/2020/05/312538071d873f38dda31750478e7242.jpg
END:VEVENT
BEGIN:VEVENT
DTSTART;TZID=America/New_York:20200526T163000
DTEND;TZID=America/New_York:20200526T180000
DTSTAMP:20260420T102001
CREATED:20200515T011004Z
LAST-MODIFIED:20200519T201537Z
UID:17757-1590510600-1590516000@aiabaltimore.org
SUMMARY:Understanding the AIA Framework for Design Excellence
DESCRIPTION:Powered by Eventbrite\n\n1.5 AIA/CES HSW LUs available / GBCI Credits available (Note: if you attended and registered to receive AIA LUs at the March 17 presentation\, you will not be eligible for additional credits). \nLast summer\, the AIA Board of Directors approved a resolution to “declare an urgent climate imperative for carbon reduction.” AIA National is establishing goals to support mitigation and adaptation using the tenets of the comprehensive and holistic COTE Top 10 Toolkit\, now known as the Framework for Design Excellence.\nThe session will use a real life example and go through each section. \nThe Framework for Design Excellence is a resource\, accessible to all architects\, that closes the information gap to designing high performing\, equitable\, beautiful buildings. The Toolkit is designed to provide relevant\, general guidance to architects incorporating deep green principles from the beginning of every project. \nThis year\, the Maryland Chapters of AIA\, including AIA Baltimore\, will be phasing in 5 of the COTE Top 10 measures into the Excellence in Design Awards for all submissions. \nSee how firms are using the Framework\nThe presenters will be Ursula Del Castillo and Rudy Schaar\, COTE+R co-chairs; Ben Roush\, Principal at FSi engineers; and Lisa Ferretto\, Director of Sustainability at Hord Coplan Macht. \nImage: Lakeside Senior Apartments – David Baker Architects.
URL:https://aiabaltimore.org/event/understanding-the-aia-framework-for-design-excellence-2/
LOCATION:Webinar
CATEGORIES:Continuing Education,Professional Development,Webinars
ATTACH;FMTTYPE=image/jpeg:https://aiabaltimore.org/wp-content/uploads/2020/05/0f4db49cab8ae3d70a09e341c295f0e0.jpg
END:VEVENT
BEGIN:VEVENT
DTSTART;TZID=America/New_York:20200520T180000
DTEND;TZID=America/New_York:20200520T193000
DTSTAMP:20260420T102001
CREATED:20200419T190333Z
LAST-MODIFIED:20200519T185435Z
UID:748-1589997600-1590003000@aiabaltimore.org
SUMMARY:2020 AIA Baltimore & BAF Spring Lecture Series 3: Building and Unbuilding
DESCRIPTION:1.5 AIA/CES HSW LUs available/1.5 PDH available (LA CES provided by Maryland ASLA) \nOverview \nThe 2020 AIA Baltimore & BAF Spring Lecture Series will explore unbuilt architecture and design work. Speakers will showcase and discuss their unbuilt\, speculative\, and/or dismantled work\, including competitions\, explorations\, and research. The series will explore why projects go unrealized and create a dialogue about what could have been\, what is\, and what can be. \nSee the full calendar of lectures \nLecture 3: Building and Unbuilding \nJ. Yolande Daniels\, studioSUMO\n \nJennifer Goold\, Neighborhood Design Center \nThe design of space\, objects\, and environments requires an exploration of the impact of architecture beyond surfaces and objects. The spaces and environments we inhabit are all constructed\, and social constructs are formalized in architecture and urban planning. \nYolande Daniels will discuss Building and Unbuilding—two areas of research and production that explore architecture at multiple scales ranging from the macro-scale of societal patterns that inform the design of objects and spaces\, to the mezzo-scale of institutional buildings and dwellings\, to the micro-scale of the patterning of surfaces. \nJennifer Goold will explore how COVID-19 is prompting cities and city-dwellers the world over to reconsider our relationship to the built environment. This public health crisis is providing insight into the critical relationship between the health of our environment\, the role of public space to human health and wellness\, and the importance of local business in resilience. Can we grasp this moment and unbuild some of the systems that are not going to work in the future of cities? \nAbout the Speakers \nJ. Yolande Daniels\, studioSUMO\n \nYolande Daniels is a co-founding principal of the architecture and design practice\, studioSUMO in New York and Los Angeles\, and\, an Assistant Professor in Architecture at USC/University of Southern California. She received architecture degrees from Columbia University and City College\, CUNY. She held the Sarineen chair at Yale University and the Silman Chair at Howard University and taught at Massachusetts Institute of Technology\, Columbia University\, Washington University\, The University of Michigan\, and City College. \nYolande is a recipient of the Rome Prize in Architecture and of fellowships from the Mac Dowell Colony and the Independent Study Program of the Whitney American Museum of Art in both studio practice and cultural studies. Her independent design research explores the spatial effects and techniques of power in architecture and urban spaces and has been published in a wide range of anthologies. \nThe practice\, studioSUMO has exhibited work at the Venice Biennale and been the recipient of design awards including the American Academy of Arts and Letters Architecture Award\, Emerging Voices Award\, Design Vanguard Award\, and the League Prize\, and received grants from NYSCA/New York State Council on the Arts and NYFA/New York Foundation for the Arts. \nThe built works of studioSUMO have been recognized for design excellence in architecture awards from the Japan National Design Council\, German National Design Council\, Chicago Athenaeum\, New York City Chapter and New York State AIA\, and\, published in journals globally from Architect/Progressive Architecture\, Architectural Record\, Frame\, Azure in Australia\, bob in South Korea\, Global Architecture/GA and SpaDE/Space Design in Japan. \nJennifer Goold\, Neighborhood Design Center\n \nJennifer Goold joined the Neighborhood  Design Center in 2012 after more than a decade of work in cultural resources management\, historic preservation\, development and planning. At NDC\, she directs all aspects of the center’s operations including staff\, programs\, outreach\, and fundraising. A Baltimore resident since 1993\, she has been involved in many of the city’s largest historic building rehabilitations\, including the American Can Company\, Silo Point and Tide Point. She is passionate about the people\, places\, and culture of the city and equitable access to all it has to offer.  She holds a BS in Interior Design from Indiana University and an MS in Historic Preservation from Columbia University.
URL:https://aiabaltimore.org/event/2020-aia-baltimore-baf-spring-lecture-series-3-building-and-unbuilding/
LOCATION:Webinar
CATEGORIES:Continuing Education,Lectures,Webinars
ATTACH;FMTTYPE=image/jpeg:https://aiabaltimore.org/wp-content/uploads/2020/04/d69c2bec50275468d1f7fb2b04c67ce4.jpg
END:VEVENT
BEGIN:VEVENT
DTSTART;TZID=America/New_York:20200520T130000
DTEND;TZID=America/New_York:20200520T140000
DTSTAMP:20260420T102001
CREATED:20200517T181340Z
LAST-MODIFIED:20200521T201435Z
UID:21255-1589979600-1589983200@aiabaltimore.org
SUMMARY:Structural and Design Integrity in Fenestration (TW Perry)
DESCRIPTION:1 AIA CEU/LU available \nWindow Wednesday’s with Ken Course Summary: \nParticipants will be instructed to evaluate various methods\, and components of window and door manufacturing\, as it relates to structural integrity\, durability\,performance values\, and architectural compliance. Participants will gain an educated understanding of how the fenestration manufacturing processes and selected products can enhance the structural and thermal dynamics of weatherization\, and life cycle analysis. Participants will be able place this information into functional design applications\, while maintaining the desired architectural integrity\, and improving the overall performance value. \nRegistration Here\n 
URL:https://aiabaltimore.org/event/structural-and-design-integrity-in-fenestration-tw-perry/
CATEGORIES:Continuing Education,Lectures,Partner Programs
END:VEVENT
BEGIN:VEVENT
DTSTART;TZID=America/New_York:20200505T180000
DTEND;TZID=America/New_York:20200505T201500
DTSTAMP:20260420T102001
CREATED:20200417T013143Z
LAST-MODIFIED:20200515T031744Z
UID:360-1588701600-1588709700@aiabaltimore.org
SUMMARY:AIA Continuing ED: Strengthening Solutions- Structural Tech (SEI-MD)
DESCRIPTION:NEXT PRESENTATION:  May 5 th\, 2020 \n  \nLOCATION: The Engineers Society ofBaltimore (ESB) \n                     Garrett-Jacobs Mansion \n                     11 West Mount Vernon Place \n                     Baltimore\, Maryland 21201 \nSCHEDULE:  \n6:00–7:00 PM: Registration/Social Hour \n7:00–8:00 PM: Dinner/Presentation \n8:00–8:15 PM: Questions  \nDate: May 5th\,2020 \nSpeaker: KevinPavuk \nManager\, Strengthening Solutions – Structural Technologies\, LLC \n  \nPresentation: “How to Repair\, Modify\,Maintain\, and Evaluate Post-Tensioned Concrete Structures”
URL:https://aiabaltimore.org/event/aia-continuing-ed-strengthening-solutions-structural-tech-sei-md/
LOCATION:11 W Mt Vernon Pl\, Baltimore\, MD\, United States
CATEGORIES:Continuing Education,Partner Programs,Professional Development
GEO:39.296536;-76.623489
END:VEVENT
END:VCALENDAR